BEGIN:VCALENDAR
VERSION:2.0
PRODID:-//wp-events-plugin.com//7.2.3.1//EN
BEGIN:VEVENT
UID:2001@glennmillerorchestra.com
DTSTART:20260607T160000Z
DTEND:20260607T160000Z
DTSTAMP:20250429T162117Z
URL:https://glennmillerorchestra.com/tour-schedule/sheldon-concert-hall-2-
 7/
SUMMARY:Sheldon Concert Hall
DESCRIPTION:
CATEGORIES:Concert
LOCATION:Sheldon Concert Hall\, 3648 Washington Blvd.\, St. Louis\, MO\, Un
 ited States
X-APPLE-STRUCTURED-LOCATION;VALUE=URI;X-ADDRESS=3648 Washington Blvd.\, St.
  Louis\, MO\, United States;X-APPLE-RADIUS=100;X-TITLE=Sheldon Concert Hal
 l:geo:0,0
END:VEVENT
END:VCALENDAR