BEGIN:VCALENDAR
VERSION:2.0
PRODID:-//wp-events-plugin.com//7.2.3.1//EN
BEGIN:VEVENT
UID:2129@glennmillerorchestra.com
DTSTART:20260822T180000Z
DTEND:20260822T180000Z
DTSTAMP:20260224T220453Z
URL:https://glennmillerorchestra.com/tour-schedule/soul-joels-sunnybrook-b
 allroom-4/
SUMMARY:Soul Joel's @ Sunnybrook Ballroom
DESCRIPTION:
CATEGORIES:Dance
LOCATION:Soul Joel's @ Sunnybrook Ballroom\, 50 Sunnybrook Road\, Pottstown
 \, PA\, United States
X-APPLE-STRUCTURED-LOCATION;VALUE=URI;X-ADDRESS=50 Sunnybrook Road\, Pottst
 own\, PA\, United States;X-APPLE-RADIUS=100;X-TITLE=Soul Joel's @ Sunnybro
 ok Ballroom:geo:0,0
END:VEVENT
END:VCALENDAR