BEGIN:VCALENDAR
VERSION:2.0
PRODID:-//wp-events-plugin.com//7.2.3.1//EN
BEGIN:VEVENT
UID:2115@glennmillerorchestra.com
DTSTART:20260609T190000Z
DTEND:20260609T190000Z
DTSTAMP:20260217T210236Z
URL:https://glennmillerorchestra.com/tour-schedule/southern-theatre-2-2/
SUMMARY:Southern Theatre
DESCRIPTION:
CATEGORIES:Concert
LOCATION:Southern Theatre\, 21 E Main St\, Columbus\, OH\, United States
GEO:39.9560565;-82.9986563
X-APPLE-STRUCTURED-LOCATION;VALUE=URI;X-ADDRESS=21 E Main St\, Columbus\, O
 H\, United States;X-APPLE-RADIUS=100;X-TITLE=Southern Theatre:geo:39.95605
 65,-82.9986563
END:VEVENT
END:VCALENDAR