BEGIN:VCALENDAR
VERSION:2.0
PRODID:-//wp-events-plugin.com//7.2.3.1//EN
BEGIN:VEVENT
UID:2062@glennmillerorchestra.com
DTSTART:20260530T210000Z
DTEND:20260530T210000Z
DTSTAMP:20251215T201116Z
URL:https://glennmillerorchestra.com/tour-schedule/spanish-ballroom-4/
SUMMARY:Spanish Ballroom
DESCRIPTION:At Glen Echo Park\n
CATEGORIES:Dance
LOCATION:Spanish Ballroom at Glen Echo Park\, 7300 MacArthur Blvd.\, Glen E
 cho\, MD\, United States
GEO:38.9663003;-77.13822900000002
X-APPLE-STRUCTURED-LOCATION;VALUE=URI;X-ADDRESS=7300 MacArthur Blvd.\, Glen
  Echo\, MD\, United States;X-APPLE-RADIUS=100;X-TITLE=Spanish Ballroom at 
 Glen Echo Park:geo:38.9663003,-77.13822900000002
END:VEVENT
END:VCALENDAR