BEGIN:VCALENDAR
VERSION:2.0
PRODID:-//wp-events-plugin.com//7.2.3.1//EN
BEGIN:VEVENT
UID:2097@glennmillerorchestra.com
DTSTART:20260818T190000Z
DTEND:20260818T190000Z
DTSTAMP:20251205T163859Z
URL:https://glennmillerorchestra.com/tour-schedule/spire-center-6/
SUMMARY:Spire Center
DESCRIPTION:
CATEGORIES:Concert
LOCATION:Spire Center for the Performing Arts\, 25 1/2 Court Street\, Plymo
 uth\, MA\, United States
X-APPLE-STRUCTURED-LOCATION;VALUE=URI;X-ADDRESS=25 1/2 Court Street\, Plymo
 uth\, MA\, United States;X-APPLE-RADIUS=100;X-TITLE=Spire Center for the P
 erforming Arts:geo:0,0
END:VEVENT
END:VCALENDAR