BEGIN:VCALENDAR
VERSION:2.0
PRODID:-//wp-events-plugin.com//7.2.3.1//EN
BEGIN:VEVENT
UID:2095@glennmillerorchestra.com
DTSTART:20260816T140000Z
DTEND:20260816T140000Z
DTSTAMP:20251205T163745Z
URL:https://glennmillerorchestra.com/tour-schedule/stadium-theatre-pac-4/
SUMMARY:Stadium Theatre PAC
DESCRIPTION:
CATEGORIES:Concert
LOCATION:Stadium Theatre Performing Arts Center\, 28 Monument Square\, Woon
 socket\, RI\, United States
GEO:42.005267;-71.51245999999998
X-APPLE-STRUCTURED-LOCATION;VALUE=URI;X-ADDRESS=28 Monument Square\, Woonso
 cket\, RI\, United States;X-APPLE-RADIUS=100;X-TITLE=Stadium Theatre Perfo
 rming Arts Center:geo:42.005267,-71.51245999999998
END:VEVENT
END:VCALENDAR