BEGIN:VCALENDAR
VERSION:2.0
PRODID:-//wp-events-plugin.com//7.2.3.1//EN
BEGIN:VEVENT
UID:1981@glennmillerorchestra.com
DTSTART:20260506T190000Z
DTEND:20260506T190000Z
DTSTAMP:20250314T181151Z
URL:https://glennmillerorchestra.com/tour-schedule/the-cabot-theatre-6/
SUMMARY:The Cabot Theatre
DESCRIPTION:\n\n&nbsp\;
CATEGORIES:Concert
LOCATION:The Cabot Theatre\, 286 Cabot Street\, Beverly\, MA\, United State
 s
GEO:42.5514594;-70.87888069999997
X-APPLE-STRUCTURED-LOCATION;VALUE=URI;X-ADDRESS=286 Cabot Street\, Beverly\
 , MA\, United States;X-APPLE-RADIUS=100;X-TITLE=The Cabot Theatre:geo:42.5
 514594,-70.87888069999997
END:VEVENT
END:VCALENDAR