BEGIN:VCALENDAR
VERSION:2.0
PRODID:-//wp-events-plugin.com//7.2.3.1//EN
BEGIN:VEVENT
UID:2134@glennmillerorchestra.com
DTSTART:20260427T190000Z
DTEND:20260427T190000Z
DTSTAMP:20260310T173719Z
URL:https://glennmillerorchestra.com/tour-schedule/the-capitol-2/
SUMMARY:The Capitol
DESCRIPTION:
CATEGORIES:Concert
LOCATION:The Capitol\, 416 E. Main Main Avenue\, Bowling Green\, KY\, 42101
 \, United States
X-APPLE-STRUCTURED-LOCATION;VALUE=URI;X-ADDRESS=416 E. Main Main Avenue\, B
 owling Green\, KY\, 42101\, United States;X-APPLE-RADIUS=100;X-TITLE=The C
 apitol:geo:0,0
END:VEVENT
END:VCALENDAR