BEGIN:VCALENDAR
VERSION:2.0
PRODID:-//wp-events-plugin.com//7.2.3.1//EN
BEGIN:VEVENT
UID:2089@glennmillerorchestra.com
DTSTART:20260630T190000Z
DTEND:20260630T190000Z
DTSTAMP:20251205T163159Z
URL:https://glennmillerorchestra.com/tour-schedule/the-fisher-center-2/
SUMMARY:The Fisher Center
DESCRIPTION:
CATEGORIES:Concert
LOCATION:The Fisher Center\, 2020 Belmont Blvd\, Nashville\, TN\, United St
 ates
X-APPLE-STRUCTURED-LOCATION;VALUE=URI;X-ADDRESS=2020 Belmont Blvd\, Nashvil
 le\, TN\, United States;X-APPLE-RADIUS=100;X-TITLE=The Fisher Center:geo:0
 ,0
END:VEVENT
END:VCALENDAR