BEGIN:VCALENDAR
VERSION:2.0
PRODID:-//wp-events-plugin.com//7.2.3.1//EN
BEGIN:VEVENT
UID:2112@glennmillerorchestra.com
DTSTART:20260823T150000Z
DTEND:20260823T150000Z
DTSTAMP:20260217T154319Z
URL:https://glennmillerorchestra.com/tour-schedule/the-levoy-theatre-7-6/
SUMMARY:The Levoy Theatre
DESCRIPTION:
CATEGORIES:Concert
LOCATION:The Levoy Theatre\, 126-130 N. High Street\, Millville\, NJ\, Unit
 ed States
GEO:39.396875;-75.038484
X-APPLE-STRUCTURED-LOCATION;VALUE=URI;X-ADDRESS=126-130 N. High Street\, Mi
 llville\, NJ\, United States;X-APPLE-RADIUS=100;X-TITLE=The Levoy Theatre:
 geo:39.396875,-75.038484
END:VEVENT
END:VCALENDAR