BEGIN:VCALENDAR
VERSION:2.0
PRODID:-//wp-events-plugin.com//7.2.3.1//EN
BEGIN:VEVENT
UID:2085@glennmillerorchestra.com
DTSTART:20260503T160000Z
DTEND:20260503T160000Z
DTSTAMP:20251205T162640Z
URL:https://glennmillerorchestra.com/tour-schedule/the-music-hall-2/
SUMMARY:The Music Hall
DESCRIPTION:
CATEGORIES:Concert
LOCATION:The Music Hall\, 28 Chestnut St\, Portsmouth\, NH\, United States
X-APPLE-STRUCTURED-LOCATION;VALUE=URI;X-ADDRESS=28 Chestnut St\, Portsmouth
 \, NH\, United States;X-APPLE-RADIUS=100;X-TITLE=The Music Hall:geo:0,0
END:VEVENT
END:VCALENDAR