BEGIN:VCALENDAR
VERSION:2.0
PRODID:-//wp-events-plugin.com//7.2.3.1//EN
BEGIN:VEVENT
UID:2092@glennmillerorchestra.com
DTSTART:20260806T190000Z
DTEND:20260806T190000Z
DTSTAMP:20251205T163505Z
URL:https://glennmillerorchestra.com/tour-schedule/the-pine-performance-ce
 nter-2/
SUMMARY:The Pine Performance Center
DESCRIPTION:
CATEGORIES:Concert
LOCATION:The Pine Performance Ct\, Saw-Wa-Quato St\, Curtis\, MI\, United S
 tates
X-APPLE-STRUCTURED-LOCATION;VALUE=URI;X-ADDRESS=Saw-Wa-Quato St\, Curtis\, 
 MI\, United States;X-APPLE-RADIUS=100;X-TITLE=The Pine Performance Ct:geo:
 0,0
END:VEVENT
END:VCALENDAR