BEGIN:VCALENDAR
VERSION:2.0
PRODID:-//wp-events-plugin.com//7.2.3.1//EN
BEGIN:VEVENT
UID:2110@glennmillerorchestra.com
DTSTART:20261107T190000Z
DTEND:20261107T190000Z
DTSTAMP:20260212T145313Z
URL:https://glennmillerorchestra.com/tour-schedule/the-princess-theatre/
SUMMARY:The Princess Theatre
DESCRIPTION:
CATEGORIES:Concert
LOCATION:The Princess Theatre - TN\, 215 S Cedar Avenue\, South Pittsburg\,
  TN\, United States
X-APPLE-STRUCTURED-LOCATION;VALUE=URI;X-ADDRESS=215 S Cedar Avenue\, South 
 Pittsburg\, TN\, United States;X-APPLE-RADIUS=100;X-TITLE=The Princess The
 atre - TN:geo:0,0
END:VEVENT
END:VCALENDAR