BEGIN:VCALENDAR
VERSION:2.0
PRODID:-//wp-events-plugin.com//7.2.3.1//EN
BEGIN:VEVENT
UID:2116@glennmillerorchestra.com
DTSTART:20260824T193000Z
DTEND:20260824T193000Z
DTSTAMP:20260413T175901Z
URL:https://glennmillerorchestra.com/tour-schedule/tim-mcloones-supper-clu
 b-18/
SUMMARY:Tim McLoone's Supper Club
DESCRIPTION:
CATEGORIES:Concert
LOCATION:Tim McLoone's Supper Club\, 1200 Ocean Ave\, Asbury Park\, NJ\, Un
 ited States
GEO:40.2230248;-73.99952400000001
X-APPLE-STRUCTURED-LOCATION;VALUE=URI;X-ADDRESS=1200 Ocean Ave\, Asbury Par
 k\, NJ\, United States;X-APPLE-RADIUS=100;X-TITLE=Tim McLoone's Supper Clu
 b:geo:40.2230248,-73.99952400000001
END:VEVENT
END:VCALENDAR