BEGIN:VCALENDAR
VERSION:2.0
PRODID:-//wp-events-plugin.com//7.2.3.1//EN
BEGIN:VEVENT
UID:2143@glennmillerorchestra.com
DTSTART:20261222T190000Z
DTEND:20261222T190000Z
DTSTAMP:20260327T182157Z
URL:https://glennmillerorchestra.com/tour-schedule/tobin-center-4/
SUMMARY:Tobin Center
DESCRIPTION:
CATEGORIES:Concert
LOCATION:Tobin Center\, 100 Auditorium Circle\, San Antonio\, TX\, United S
 tates
GEO:29.4306817;-98.48870999999997
X-APPLE-STRUCTURED-LOCATION;VALUE=URI;X-ADDRESS=100 Auditorium Circle\, San
  Antonio\, TX\, United States;X-APPLE-RADIUS=100;X-TITLE=Tobin Center:geo:
 29.4306817,-98.48870999999997
END:VEVENT
END:VCALENDAR