BEGIN:VCALENDAR
VERSION:2.0
PRODID:-//wp-events-plugin.com//7.2.3.1//EN
BEGIN:VEVENT
UID:2123@glennmillerorchestra.com
DTSTART:20261115T160000Z
DTEND:20261115T160000Z
DTSTAMP:20260218T211646Z
URL:https://glennmillerorchestra.com/tour-schedule/tupelo-music-hall-16/
SUMMARY:Tupelo Music Hall
DESCRIPTION:
CATEGORIES:Concert
LOCATION:Tupelo Music Hall\, 10 A Street\, Derry\, NH\, United States
GEO:42.8948765;-71.33193900000003
X-APPLE-STRUCTURED-LOCATION;VALUE=URI;X-ADDRESS=10 A Street\, Derry\, NH\, 
 United States;X-APPLE-RADIUS=100;X-TITLE=Tupelo Music Hall:geo:42.8948765,
 -71.33193900000003
END:VEVENT
END:VCALENDAR