BEGIN:VCALENDAR
VERSION:2.0
PRODID:-//wp-events-plugin.com//7.2.3.1//EN
BEGIN:VEVENT
UID:2121@glennmillerorchestra.com
DTSTART:20260814T190000Z
DTEND:20260814T190000Z
DTSTAMP:20260218T210147Z
URL:https://glennmillerorchestra.com/tour-schedule/turf-valley-resort-2/
SUMMARY:Turf Valley Resort
DESCRIPTION:
CATEGORIES:Concert
LOCATION:Turf Valley Resort\, 2700 Turf Valley Road\, Ellicott City\, MD\, 
 United States
X-APPLE-STRUCTURED-LOCATION;VALUE=URI;X-ADDRESS=2700 Turf Valley Road\, Ell
 icott City\, MD\, United States;X-APPLE-RADIUS=100;X-TITLE=Turf Valley Res
 ort:geo:0,0
END:VEVENT
END:VCALENDAR