BEGIN:VCALENDAR
VERSION:2.0
PRODID:-//wp-events-plugin.com//7.2.3.1//EN
BEGIN:VEVENT
UID:2109@glennmillerorchestra.com
DTSTART:20261022T193000Z
DTEND:20261022T193000Z
DTSTAMP:20260204T204252Z
URL:https://glennmillerorchestra.com/tour-schedule/uptown-knauer-performin
 g-arts-center-3/
SUMMARY:Uptown Knauer Performing Arts Center
DESCRIPTION:
CATEGORIES:Concert
LOCATION:Uptown Knauer Performing Arts Center\, 226 N. High Street\, West C
 hester\, PA\, 19380\, United States
X-APPLE-STRUCTURED-LOCATION;VALUE=URI;X-ADDRESS=226 N. High Street\, West C
 hester\, PA\, 19380\, United States;X-APPLE-RADIUS=100;X-TITLE=Uptown Knau
 er Performing Arts Center:geo:0,0
END:VEVENT
END:VCALENDAR