BEGIN:VCALENDAR
VERSION:2.0
PRODID:-//wp-events-plugin.com//7.2.3.1//EN
BEGIN:VEVENT
UID:2114@glennmillerorchestra.com
DTSTART:20260719T190000Z
DTEND:20260719T190000Z
DTSTAMP:20260217T201727Z
URL:https://glennmillerorchestra.com/tour-schedule/vilar-performing-arts-c
 enter-2/
SUMMARY:Vilar Performing Arts Center
DESCRIPTION:
CATEGORIES:Concert
LOCATION:Vilar Performing Arts Center\, 68 Avondale Lane\, Beaver Creek\, C
 O\, 81620\, United States
X-APPLE-STRUCTURED-LOCATION;VALUE=URI;X-ADDRESS=68 Avondale Lane\, Beaver C
 reek\, CO\, 81620\, United States;X-APPLE-RADIUS=100;X-TITLE=Vilar Perform
 ing Arts Center:geo:0,0
END:VEVENT
END:VCALENDAR