BEGIN:VCALENDAR
VERSION:2.0
PRODID:-//wp-events-plugin.com//7.2.3.1//EN
BEGIN:VEVENT
UID:2064@glennmillerorchestra.com
DTSTART:20260801T190000Z
DTEND:20260801T190000Z
DTSTAMP:20260102T191248Z
URL:https://glennmillerorchestra.com/tour-schedule/wentz-concert-hall-5/
SUMMARY:Wentz Concert Hall
DESCRIPTION:
CATEGORIES:Concert
LOCATION:Wentz Concert Hall\, 171 E Chicago Ave\, Naperville\, IL\, United 
 States
X-APPLE-STRUCTURED-LOCATION;VALUE=URI;X-ADDRESS=171 E Chicago Ave\, Napervi
 lle\, IL\, United States;X-APPLE-RADIUS=100;X-TITLE=Wentz Concert Hall:geo
 :0,0
END:VEVENT
END:VCALENDAR