BEGIN:VCALENDAR
VERSION:2.0
PRODID:-//wp-events-plugin.com//7.2.3.1//EN
BEGIN:VEVENT
UID:2057@glennmillerorchestra.com
DTSTART:20260614T183000Z
DTEND:20260614T183000Z
DTSTAMP:20250828T144801Z
URL:https://glennmillerorchestra.com/tour-schedule/wilder-park-main-pavili
 on-9/
SUMMARY:Wilder Park Main Pavilion
DESCRIPTION:
CATEGORIES:Concert
LOCATION:Wilder Park Main Pavilion\, 22301 Iowa 3\, Allison\, IA\, United S
 tates
GEO:42.7446871;-92.79046679999999
X-APPLE-STRUCTURED-LOCATION;VALUE=URI;X-ADDRESS=22301 Iowa 3\, Allison\, IA
 \, United States;X-APPLE-RADIUS=100;X-TITLE=Wilder Park Main Pavilion:geo:
 42.7446871,-92.79046679999999
END:VEVENT
END:VCALENDAR